BEGIN:VCALENDAR
VERSION:2.0
PRODID:-//Ginkgo Coffeehouse - ECPv6.15.20//NONSGML v1.0//EN
CALSCALE:GREGORIAN
METHOD:PUBLISH
X-ORIGINAL-URL:https://ginkgocoffee.com
X-WR-CALDESC:Events for Ginkgo Coffeehouse
REFRESH-INTERVAL;VALUE=DURATION:PT1H
X-Robots-Tag:noindex
X-PUBLISHED-TTL:PT1H
BEGIN:VTIMEZONE
TZID:America/Chicago
BEGIN:DAYLIGHT
TZOFFSETFROM:-0600
TZOFFSETTO:-0500
TZNAME:CDT
DTSTART:20250309T080000
END:DAYLIGHT
BEGIN:STANDARD
TZOFFSETFROM:-0500
TZOFFSETTO:-0600
TZNAME:CST
DTSTART:20251102T070000
END:STANDARD
BEGIN:DAYLIGHT
TZOFFSETFROM:-0600
TZOFFSETTO:-0500
TZNAME:CDT
DTSTART:20260308T080000
END:DAYLIGHT
BEGIN:STANDARD
TZOFFSETFROM:-0500
TZOFFSETTO:-0600
TZNAME:CST
DTSTART:20261101T070000
END:STANDARD
BEGIN:DAYLIGHT
TZOFFSETFROM:-0600
TZOFFSETTO:-0500
TZNAME:CDT
DTSTART:20270314T080000
END:DAYLIGHT
BEGIN:STANDARD
TZOFFSETFROM:-0500
TZOFFSETTO:-0600
TZNAME:CST
DTSTART:20271107T070000
END:STANDARD
END:VTIMEZONE
BEGIN:VEVENT
DTSTART;TZID=America/Chicago:20260520T180000
DTEND;TZID=America/Chicago:20260520T200000
DTSTAMP:20260420T101735
CREATED:20250520T093050Z
LAST-MODIFIED:20260416T114305Z
UID:325-1779300000-1779307200@ginkgocoffee.com
SUMMARY:Open Mic with host Neal Dimick
DESCRIPTION:Open Mic with host Neal Dimick \n1st & 3rd Wednesdays from 6-8 PM \nSign up begins about 5:30 PM \n\nThis is a Local Musician Series Concert \nLocal musicians playing for donations in a casual setting. \nNo ticket necessary.
URL:https://ginkgocoffee.com/event/open-mic-with-host-neal-dimick/
LOCATION:Ginkgo Coffee\, 721 N Snelling Avenue\, St. Paul\, MN\, 55104
CATEGORIES:Local Musician Series
ATTACH;FMTTYPE=image/jpeg:https://ginkgocoffee.com/wp-content/uploads/2022/04/Gingko_coffeehouse_Neal_Dimic_Open_Mic_800x450.jpg
END:VEVENT
BEGIN:VEVENT
DTSTART;TZID=America/Chicago:20260522T180000
DTEND;TZID=America/Chicago:20260522T180000
DTSTAMP:20260420T101735
CREATED:20250522T151721Z
LAST-MODIFIED:20260114T151732Z
UID:1438-1779472800-1779472800@ginkgocoffee.com
SUMMARY:Kate Swanson
DESCRIPTION:Kate Swanson \nConcert begins at 6:00 PM on May 22\, 2026 at Ginkgo coffeehouse (721 N. Snelling\, St. Paul). \nKate is a Minneapolis-based singer and emerging songwriter. A self-proclaimed "forever choir kid\," Kate began playing ukulele and singing at local open mic sets in July 2023. She covers a variety of genres -- her favorite musical past-time is to make lullaby-like covers of contemporary artists. \nThis is a Local Musician Series Concert \nLocal musicians playing for donations in a casual setting. \nNo ticket necessary. \nYou can come for the entire evening\, or enjoy just a few minutes of music.
URL:https://ginkgocoffee.com/event/kate-swanson/
LOCATION:Ginkgo Coffee\, 721 N Snelling Avenue\, St. Paul\, MN\, 55104
CATEGORIES:Local Musician Series
ATTACH;FMTTYPE=image/jpeg:https://ginkgocoffee.com/wp-content/uploads/2026/01/Ginkgo_coffeehouse_Kate_Swanson_800x450.jpg
END:VEVENT
BEGIN:VEVENT
DTSTART;TZID=America/Chicago:20260529T180000
DTEND;TZID=America/Chicago:20260529T180000
DTSTAMP:20260420T101735
CREATED:20250529T141909Z
LAST-MODIFIED:20260224T141922Z
UID:1491-1780077600-1780077600@ginkgocoffee.com
SUMMARY:3Beards Unplugged
DESCRIPTION:3Beards Unplugged \nConcert begins at 6:00 PM on May 29\, 2026 at Ginkgo coffeehouse (721 N. Snelling\, St. Paul). \nCome join 3Beards Unplugged for our first time at the Gingko Coffeehouse! At a 3Beards show\, you will hear stellar musicianship\, beautiful harmonies and a mix of old and new music that will get you singing along. You will hear musicians like Cat Stevens\, Eddie Rabbitt\, Live\, Alice in Chains\, America\, Noah Kahan\, Fleetwood Mac\, Caamp\, and many more \nThis is a Local Musician Series Concert \nLocal musicians playing for donations in a casual setting. \nNo ticket necessary. \nYou can come for the entire evening\, or enjoy just a few minutes of music.
URL:https://ginkgocoffee.com/event/3beards-unplugged/
LOCATION:Ginkgo Coffee\, 721 N Snelling Avenue\, St. Paul\, MN\, 55104
CATEGORIES:Local Musician Series
ATTACH;FMTTYPE=image/jpeg:https://ginkgocoffee.com/wp-content/uploads/2026/02/Ginkgo_coffeehouse_3Beards_Unplugged_800x450.jpg
END:VEVENT
BEGIN:VEVENT
DTSTART;TZID=America/Chicago:20260626T180000
DTEND;TZID=America/Chicago:20260626T180000
DTSTAMP:20260420T101735
CREATED:20250612T125435Z
LAST-MODIFIED:20260415T142413Z
UID:1531-1782496800-1782496800@ginkgocoffee.com
SUMMARY:Steven J. Schmidt
DESCRIPTION:Steven J. Schmidt \nConcert begins at 6:00 PM on June 26\, 2026 at Ginkgo coffeehouse (721 N. Snelling\, St. Paul). \nSteven J. Schmidt has written hundreds of songs\, and each one is like a bottle of fine\, bourbon barrel-aged stout. He performs his rich\, full-flavored tunes\, crafted over the last fifty years\, at house concerts\, coffee houses\, listening rooms\, performing arts centers\, wineries\, and festivals. \nThis is a Local Musician Series Concert \nLocal musicians playing for donations in a casual setting. \nNo ticket necessary. \nYou can come for the entire evening\, or enjoy just a few minutes of music.
URL:https://ginkgocoffee.com/event/steven-j-schmidt/
LOCATION:Ginkgo Coffee\, 721 N Snelling Avenue\, St. Paul\, MN\, 55104
CATEGORIES:Local Musician Series
ATTACH;FMTTYPE=image/jpeg:https://ginkgocoffee.com/wp-content/uploads/2026/04/Ginkgo_coffeehouse_Steven_J_Schmidt_800x450.jpg
END:VEVENT
BEGIN:VEVENT
DTSTART;TZID=America/Chicago:20260724T180000
DTEND;TZID=America/Chicago:20260724T180000
DTSTAMP:20260420T101735
CREATED:20250724T142050Z
LAST-MODIFIED:20260415T142102Z
UID:1545-1784916000-1784916000@ginkgocoffee.com
SUMMARY:Keegan White
DESCRIPTION:Keegan White \nConcert begins at 6:00 PM on July 24\, 2026 at Ginkgo coffeehouse (721 N. Snelling\, St. Paul). \nKeegan White is an acoustic singer/songwriter who's Folk and Americana sound is reflective of his journey living and traveling across the country. He's now made a home in Minnesota\, and like the worn\, weathered road that got him here\, his music feels rugged\, but broken in like a baseball glove. Though he may have traveled far and wide\, his songs will help you feel right at home. \nThis is a Local Musician Series Concert \nLocal musicians playing for donations in a casual setting. \nNo ticket necessary. \nYou can come for the entire evening\, or enjoy just a few minutes of music.
URL:https://ginkgocoffee.com/event/keegan-white/
LOCATION:Ginkgo Coffee\, 721 N Snelling Avenue\, St. Paul\, MN\, 55104
CATEGORIES:Local Musician Series
ATTACH;FMTTYPE=image/jpeg:https://ginkgocoffee.com/wp-content/uploads/2026/04/Ginkgo_coffeehouse_Keegan_White_800x450.jpg
END:VEVENT
BEGIN:VEVENT
DTSTART;TZID=America/Chicago:20260731T180000
DTEND;TZID=America/Chicago:20260731T180000
DTSTAMP:20260420T101735
CREATED:20250731T142220Z
LAST-MODIFIED:20260415T142249Z
UID:1548-1785520800-1785520800@ginkgocoffee.com
SUMMARY:Nancy Olson
DESCRIPTION:Nancy Olson \nConcert begins at 6:00 PM on July 31\, 2026 at Ginkgo coffeehouse (721 N. Snelling\, St. Paul). \nNancy Olson sings and plays a variety of instruments including: autoharp\, dulcimer\, uke\, banjolele and\, guitar. She plays original songs and an eclectic selection of folk\, blues\, and pop songs of the 60s\, 70s and 80s. \nThis is a Local Musician Series Concert \nLocal musicians playing for donations in a casual setting. \nNo ticket necessary. \nYou can come for the entire evening\, or enjoy just a few minutes of music.
URL:https://ginkgocoffee.com/event/nancy-olson/
LOCATION:Ginkgo Coffee\, 721 N Snelling Avenue\, St. Paul\, MN\, 55104
CATEGORIES:Local Musician Series
ATTACH;FMTTYPE=image/jpeg:https://ginkgocoffee.com/wp-content/uploads/2026/04/Ginkgo_coffeehouse_Nancy_Olson_800x450.jpg
END:VEVENT
BEGIN:VEVENT
DTSTART;TZID=America/Chicago:20260807T180000
DTEND;TZID=America/Chicago:20260807T180000
DTSTAMP:20260420T101735
CREATED:20250807T124220Z
LAST-MODIFIED:20260320T124232Z
UID:1517-1786125600-1786125600@ginkgocoffee.com
SUMMARY:David Singley
DESCRIPTION:David Singley \nConcert begins at 6:00 PM on August 7\, 2026 at Ginkgo coffeehouse (721 N. Snelling\, St. Paul). \nDavid Singley returns with a new set of songs and stories. C'mon out! \nThis is a Local Musician Series Concert \nLocal musicians playing for donations in a casual setting. \nNo ticket necessary. \nYou can come for the entire evening\, or enjoy just a few minutes of music.
URL:https://ginkgocoffee.com/event/david-singley-2/
LOCATION:Ginkgo Coffee\, 721 N Snelling Avenue\, St. Paul\, MN\, 55104
CATEGORIES:Local Musician Series
ATTACH;FMTTYPE=image/jpeg:https://ginkgocoffee.com/wp-content/uploads/2025/07/David_Singley_11-14-2025_800x450.jpg
END:VEVENT
END:VCALENDAR